BEGIN:VCALENDAR
VERSION:2.0
PRODID:-//Tukios.com/
BEGIN:VEVENT
UID:37009c61-0323-4baf-a90c-ac528b124a89@www.kosaryfuneralhome.com
DTSTAMP:20260420T055219Z
DTSTART:20260423
SUMMARY:Interment
DESCRIPTION:Interment Private at St. Mary Cemetery
URL:https://www.kosaryfuneralhome.com/obituaries/john-drazenovic
LOCATION: 87th Street & Hamlin Avenue  Evergreen Park IL 60805
GEO:41.7350015;-87.7165537
END:VEVENT
END:VCALENDAR