BEGIN:VCALENDAR
VERSION:2.0
PRODID:-//Tukios.com/
BEGIN:VEVENT
UID:46b2d231-aae6-496f-bc76-d14f54e95e04@www.kosaryfuneralhome.com
DTSTAMP:20260420T055508Z
DTSTART:20260423T160000Z
DTEND:20260423T170000Z
SUMMARY:Prayer Service
DESCRIPTION:
URL:https://www.kosaryfuneralhome.com/obituaries/john-drazenovic
LOCATION: 9837 South Kedzie Avenue  Evergreen Park IL 60805
GEO:41.714182;-87.7011636
END:VEVENT
END:VCALENDAR