BEGIN:VCALENDAR
VERSION:2.0
PRODID:-//Tukios.com/
BEGIN:VEVENT
UID:9ed1dba2-3c4a-46a4-bf9a-32d8c63a3e70@www.kosaryfuneralhome.com
DTSTAMP:20260420T055750Z
DTSTART:20260423T140000Z
DTEND:20260423T160000Z
SUMMARY:Visitation
DESCRIPTION:
URL:https://www.kosaryfuneralhome.com/obituaries/john-drazenovic
LOCATION: 9837 South Kedzie Avenue  Evergreen Park IL 60805
GEO:41.714182;-87.7011636
END:VEVENT
END:VCALENDAR